BEGIN:VCALENDAR
VERSION:2.0
PRODID:gruene-regensburg-land.de
METHOD:PUBLISH
BEGIN:VTIMEZONE
TZID:Europe/Berlin
X-LIC-LOCATION:Europe/Berlin
BEGIN:DAYLIGHT
TZOFFSETFROM:+0100
TZOFFSETTO:+0200
TZNAME:CEST
DTSTART:19700329T020000
RRULE:FREQ=YEARLY;INTERVAL=1;BYDAY=-1SU;BYMONTH=3
END:DAYLIGHT
BEGIN:STANDARD
TZOFFSETFROM:+0200
TZOFFSETTO:+0100
TZNAME:CET
DTSTART:19701025T030000
RRULE:FREQ=YEARLY;INTERVAL=1;BYDAY=-1SU;BYMONTH=10
END:STANDARD
END:VTIMEZONE
BEGIN:VEVENT
UID:8da4bfae9bee766cff7b26b89e1b42ca@gruene-regensburg-land.de
URL;VALUE=URI:https://gruene-regensburg-land.de/termine/jahreshauptversam
 mlung-der-aktiven-buerger-neutraubling/
LOCATION:Sportgaststätte bei Arsim, Sportpark 1, Neutraubling
SUMMARY:Mitgliedertreffen der Aktiven Bürger Neutraubling
DESCRIPTION;ALTREP="data:text/html,%0A%3Cp%3E24.04.2026%2C%2019%3A30%20Uh
 r%3C%2Fp%3E%0A%0A%0A%0A%3Cp%3ESportgastst%C3%A4tte%20bei%20Arsim%2C%20Spo
 rtpark%201%2C%20Neutraubling%3C%2Fp%3E%0A":24.04.2026\, 19:30 Uhr\n\nSpor
 tgaststätte bei Arsim\, Sportpark 1\, Neutraubling
CLASS:PUBLIC
DTSTART;TZID=Europe/Berlin:20260424T193000
DTEND;TZID=Europe/Berlin:20260424T203000
DTSTAMP:20260421T131158
END:VEVENT
END:VCALENDAR